BEGIN:VCALENDAR
VERSION:2.0
PRODID:-//Community First Champion Center - ECPv6.15.20//NONSGML v1.0//EN
CALSCALE:GREGORIAN
METHOD:PUBLISH
X-WR-CALNAME:Community First Champion Center
X-ORIGINAL-URL:https://championcenterwi.com
X-WR-CALDESC:Events for Community First Champion Center
REFRESH-INTERVAL;VALUE=DURATION:PT1H
X-Robots-Tag:noindex
X-PUBLISHED-TTL:PT1H
BEGIN:VTIMEZONE
TZID:America/Chicago
BEGIN:DAYLIGHT
TZOFFSETFROM:-0600
TZOFFSETTO:-0500
TZNAME:CDT
DTSTART:20240310T080000
END:DAYLIGHT
BEGIN:STANDARD
TZOFFSETFROM:-0500
TZOFFSETTO:-0600
TZNAME:CST
DTSTART:20241103T070000
END:STANDARD
BEGIN:DAYLIGHT
TZOFFSETFROM:-0600
TZOFFSETTO:-0500
TZNAME:CDT
DTSTART:20250309T080000
END:DAYLIGHT
BEGIN:STANDARD
TZOFFSETFROM:-0500
TZOFFSETTO:-0600
TZNAME:CST
DTSTART:20251102T070000
END:STANDARD
BEGIN:DAYLIGHT
TZOFFSETFROM:-0600
TZOFFSETTO:-0500
TZNAME:CDT
DTSTART:20260308T080000
END:DAYLIGHT
BEGIN:STANDARD
TZOFFSETFROM:-0500
TZOFFSETTO:-0600
TZNAME:CST
DTSTART:20261101T070000
END:STANDARD
END:VTIMEZONE
BEGIN:VEVENT
DTSTART;VALUE=DATE:20250730
DTEND;VALUE=DATE:20250801
DTSTAMP:20260419T192813
CREATED:20250424T145521Z
LAST-MODIFIED:20250430T232030Z
UID:10000394-1753833600-1754006399@championcenterwi.com
SUMMARY:Brian Butch Basketball Camps
DESCRIPTION:The Community First Champion Center hosts Brian Butch Basketball Camps!
URL:https://championcenterwi.com/event/brian-butch-basketball-camps-4/
CATEGORIES:Basketball
ATTACH;FMTTYPE=image/png:https://championcenterwi.com/wp-content/uploads/2025/03/Brian-Butch-vhySdb.tmp_.png
END:VEVENT
BEGIN:VEVENT
DTSTART;VALUE=DATE:20250729
DTEND;VALUE=DATE:20250730
DTSTAMP:20260419T192813
CREATED:20250424T145548Z
LAST-MODIFIED:20250430T231543Z
UID:10000395-1753747200-1753833599@championcenterwi.com
SUMMARY:Brian Butch Basketball Camps
DESCRIPTION:The Community First Champion Center hosts Brian Butch Basketball Camps!
URL:https://championcenterwi.com/event/brian-butch-basketball-camps-5/
CATEGORIES:Basketball
ATTACH;FMTTYPE=image/png:https://championcenterwi.com/wp-content/uploads/2025/03/Brian-Butch-vhySdb.tmp_.png
END:VEVENT
BEGIN:VEVENT
DTSTART;VALUE=DATE:20250728
DTEND;VALUE=DATE:20250729
DTSTAMP:20260419T192813
CREATED:20250424T145548Z
LAST-MODIFIED:20250430T231732Z
UID:10000396-1753660800-1753747199@championcenterwi.com
SUMMARY:Brian Butch Basketball Camps
DESCRIPTION:The Community First Champion Center hosts Brian Butch Basketball Camps!
URL:https://championcenterwi.com/event/brian-butch-basketball-camps-6/
CATEGORIES:Basketball
ATTACH;FMTTYPE=image/png:https://championcenterwi.com/wp-content/uploads/2025/03/Brian-Butch-vhySdb.tmp_.png
END:VEVENT
BEGIN:VEVENT
DTSTART;VALUE=DATE:20250728
DTEND;VALUE=DATE:20250801
DTSTAMP:20260419T192813
CREATED:20250430T205213Z
LAST-MODIFIED:20250430T205213Z
UID:10000431-1753660800-1754006399@championcenterwi.com
SUMMARY:Wisconsin Brolsma Summer Camps 2025
DESCRIPTION:The Community First Champion Center hosts the Wisconsin Brolsma Summer Camps 2025!
URL:https://championcenterwi.com/event/wisconsin-brolsma-summer-camps-2025/
CATEGORIES:Hockey
ATTACH;FMTTYPE=image/webp:https://championcenterwi.com/wp-content/uploads/2025/04/cropped-favicon.webp
END:VEVENT
BEGIN:VEVENT
DTSTART;VALUE=DATE:20250726
DTEND;VALUE=DATE:20250727
DTSTAMP:20260419T192813
CREATED:20250605T160939Z
LAST-MODIFIED:20250605T161041Z
UID:10000434-1753488000-1753574399@championcenterwi.com
SUMMARY:Summer Scorcher - Boys & Girls High School Basketball Tournament
DESCRIPTION:The Community First Champion Center hosts the Summer Scorcher!\nThe Summer Scorcher is open to all Boys & Girls High School Teams. \nThree different divisions: Varsity\, Junior Varsity\, & Freshman \nAll teams must submit rosters and have all waivers signed prior to competition.
URL:https://championcenterwi.com/event/summer-scorcher/
CATEGORIES:Basketball
ATTACH;FMTTYPE=image/webp:https://championcenterwi.com/wp-content/uploads/2025/04/cropped-favicon.webp
END:VEVENT
BEGIN:VEVENT
DTSTART;VALUE=DATE:20250722
DTEND;VALUE=DATE:20250723
DTSTAMP:20260419T192813
CREATED:20250424T145549Z
LAST-MODIFIED:20250716T193151Z
UID:10000397-1753142400-1753228799@championcenterwi.com
SUMMARY:Champions Cup 3v3 Hockey League
DESCRIPTION:Back for the Summer! The Community First Champion Center presents the Champions Cup 3v3 Hockey League!\nDATES (You will play one game per week): \nTuesday\, June 10\nTuesday\, June 17\nTuesday\, June 24\nTuesday\, July 8\nTuesday\, July 15\nTuesday\, July 22 \nMites/Squirts will play 8AM-12PM & PW/Bantams will play 11AM-3PM\n$125 per skater\, Goalies FREE! (You will pay the first week you are in attendance) \nClick here for Champions Cup Rules \nRESULTS:
URL:https://championcenterwi.com/event/champions-cup-3v3-hockey-league/
CATEGORIES:Hockey
ATTACH;FMTTYPE=image/png:https://championcenterwi.com/wp-content/uploads/2025/04/Untitled-31.png
END:VEVENT
BEGIN:VEVENT
DTSTART;VALUE=DATE:20250721
DTEND;VALUE=DATE:20250726
DTSTAMP:20260419T192813
CREATED:20250424T145550Z
LAST-MODIFIED:20250501T164733Z
UID:10000398-1753056000-1753487999@championcenterwi.com
SUMMARY:Milwaukee Bucks Summer Camp
DESCRIPTION:The Community First Champion Center hosts the Milwaukee Bucks Summer Basketball Camps!
URL:https://championcenterwi.com/event/milwaukee-bucks-summer-camp/
CATEGORIES:Basketball
ATTACH;FMTTYPE=image/png:https://championcenterwi.com/wp-content/uploads/2025/03/Logo-Milwaukee-Bucks-Logo-2015-Present-MlJdvU.tmp_.png
END:VEVENT
BEGIN:VEVENT
DTSTART;VALUE=DATE:20250719
DTEND;VALUE=DATE:20250720
DTSTAMP:20260419T192813
CREATED:20250424T145649Z
LAST-MODIFIED:20250501T015933Z
UID:10000400-1752883200-1752969599@championcenterwi.com
SUMMARY:Blizzard Summer Sizzle – Boys 12U-17U
DESCRIPTION:The Community First Champion Center hosts the Blizzard Summer Sizzle!
URL:https://championcenterwi.com/event/blizzard-summer-sizzle-boys-12u-17u/
CATEGORIES:Basketball
ATTACH;FMTTYPE=image/jpeg:https://championcenterwi.com/wp-content/uploads/2025/03/rsk-sports-RFYfAD.tmp_.jpg
END:VEVENT
BEGIN:VEVENT
DTSTART;VALUE=DATE:20250715
DTEND;VALUE=DATE:20250717
DTSTAMP:20260419T192813
CREATED:20250424T145650Z
LAST-MODIFIED:20250501T015814Z
UID:10000401-1752537600-1752710399@championcenterwi.com
SUMMARY:Prep Dig Sizzle – Varsity
DESCRIPTION:The Community First Champion Center hosts the Prep Dig Sizzle – Varsity tournament!
URL:https://championcenterwi.com/event/prep-dig-sizzle-varsity/
CATEGORIES:Volleyball
ATTACH;FMTTYPE=image/png:https://championcenterwi.com/wp-content/uploads/2025/03/Untitled-25-S68N24.tmp_.png
END:VEVENT
BEGIN:VEVENT
DTSTART;VALUE=DATE:20250715
DTEND;VALUE=DATE:20250716
DTSTAMP:20260419T192813
CREATED:20250424T145650Z
LAST-MODIFIED:20250709T193803Z
UID:10000402-1752537600-1752623999@championcenterwi.com
SUMMARY:Champions Cup 3v3 Hockey League
DESCRIPTION:Back for the Summer! The Community First Champion Center presents the Champions Cup 3v3 Hockey League!\nDATES (You will play one game per week): \nTuesday\, June 10\nTuesday\, June 17\nTuesday\, June 24\nTuesday\, July 8\nTuesday\, July 15\nTuesday\, July 22 \nMites/Squirts will play 8AM-12PM & PW/Bantams will play 11AM-3PM\n$125 per skater\, Goalies FREE! (You will pay the first week you are in attendance) \nClick here for Champions Cup Rules \nRESULTS:
URL:https://championcenterwi.com/event/champions-cup-3v3-hockey-league-2/
CATEGORIES:Hockey
ATTACH;FMTTYPE=image/png:https://championcenterwi.com/wp-content/uploads/2025/04/Untitled-31.png
END:VEVENT
BEGIN:VEVENT
DTSTART;VALUE=DATE:20250714
DTEND;VALUE=DATE:20250715
DTSTAMP:20260419T192813
CREATED:20250424T145650Z
LAST-MODIFIED:20250501T015623Z
UID:10000403-1752451200-1752537599@championcenterwi.com
SUMMARY:Prep Dig Sizzle – Junior Varsity
DESCRIPTION:The Community First Champion Center hosts the Prep Dig Sizzle – Junior Varsity tournament!
URL:https://championcenterwi.com/event/prep-dig-sizzle-junior-varsity/
CATEGORIES:Volleyball
ATTACH;FMTTYPE=image/png:https://championcenterwi.com/wp-content/uploads/2025/03/Untitled-25-S68N24.tmp_.png
END:VEVENT
BEGIN:VEVENT
DTSTART;VALUE=DATE:20250708
DTEND;VALUE=DATE:20250711
DTSTAMP:20260419T192813
CREATED:20250424T145651Z
LAST-MODIFIED:20250501T015501Z
UID:10000404-1751932800-1752191999@championcenterwi.com
SUMMARY:Breakthrough Basketball Camps – Ball Handling and Scoring Skills
DESCRIPTION:The Community First Champion Center hosts the Breakthrough Basketball Camps!
URL:https://championcenterwi.com/event/breakthrough-basketball-camps-ball-handling-and-scoring-skills/
CATEGORIES:Basketball
ATTACH;FMTTYPE=image/png:https://championcenterwi.com/wp-content/uploads/2025/03/Untitled-14-KFCByT.tmp_.png
END:VEVENT
BEGIN:VEVENT
DTSTART;VALUE=DATE:20250708
DTEND;VALUE=DATE:20250709
DTSTAMP:20260419T192813
CREATED:20250424T145749Z
LAST-MODIFIED:20250626T195657Z
UID:10000405-1751932800-1752019199@championcenterwi.com
SUMMARY:Champions Cup 3v3 Hockey League
DESCRIPTION:Back for the Summer! The Community First Champion Center presents the Champions Cup 3v3 Hockey League!\nDATES (You will play one game per week): \nTuesday\, June 10\nTuesday\, June 17\nTuesday\, June 24\nTuesday\, July 8\nTuesday\, July 15\nTuesday\, July 22 \nMites/Squirts will play 8AM-12PM & PW/Bantams will play 11AM-3PM\n$125 per skater\, Goalies FREE! (You will pay the first week you are in attendance) \nClick here for Champions Cup Rules \nRESULTS:
URL:https://championcenterwi.com/event/champions-cup-3v3-hockey-league-3/
CATEGORIES:Hockey
ATTACH;FMTTYPE=image/png:https://championcenterwi.com/wp-content/uploads/2025/04/Untitled-31.png
END:VEVENT
BEGIN:VEVENT
DTSTART;VALUE=DATE:20250705
DTEND;VALUE=DATE:20250707
DTSTAMP:20260419T192813
CREATED:20250424T145749Z
LAST-MODIFIED:20250501T015219Z
UID:10000406-1751673600-1751846399@championcenterwi.com
SUMMARY:Prep Hoops – The Tune Up
DESCRIPTION:The Community First Champion Center hosts the Prep Hoops – The Tune Up tournament!
URL:https://championcenterwi.com/event/prep-hoops-the-tune-up/
CATEGORIES:Basketball
ATTACH;FMTTYPE=image/jpeg:https://championcenterwi.com/wp-content/uploads/2025/03/Untitled-22-2-SSH79l.tmp_.jpg
END:VEVENT
BEGIN:VEVENT
DTSTART;VALUE=DATE:20250627
DTEND;VALUE=DATE:20250630
DTSTAMP:20260419T192813
CREATED:20250424T145750Z
LAST-MODIFIED:20250501T015059Z
UID:10000408-1750982400-1751241599@championcenterwi.com
SUMMARY:Recruit Wisconsin – Boys & Girls
DESCRIPTION:The Community First Champion Center hosts the Recruit Wisconsin – Boys & Girls tournament!
URL:https://championcenterwi.com/event/recruit-wisconsin-boys-girls/
CATEGORIES:Basketball
ATTACH;FMTTYPE=image/png:https://championcenterwi.com/wp-content/uploads/2025/03/Untitled-11-y5hJSD.tmp_.png
END:VEVENT
BEGIN:VEVENT
DTSTART;VALUE=DATE:20250627
DTEND;VALUE=DATE:20250630
DTSTAMP:20260419T192813
CREATED:20250424T145750Z
LAST-MODIFIED:20250501T163329Z
UID:10000407-1750982400-1751241599@championcenterwi.com
SUMMARY:Power Edge Pro Hockey Clinic
DESCRIPTION:The Community First Champion Center hosts the Appleton Weekend Hockey Clinic by Power Edge Pro!
URL:https://championcenterwi.com/event/power-edge-pro-hockey-clinic-2/
CATEGORIES:Hockey
ATTACH;FMTTYPE=image/png:https://championcenterwi.com/wp-content/uploads/2025/04/Untitled-33-2.png
END:VEVENT
BEGIN:VEVENT
DTSTART;VALUE=DATE:20250625
DTEND;VALUE=DATE:20250627
DTSTAMP:20260419T192813
CREATED:20250424T145849Z
LAST-MODIFIED:20250430T231238Z
UID:10000410-1750809600-1750982399@championcenterwi.com
SUMMARY:Brian Butch Basketball Camps
DESCRIPTION:The Community First Champion Center hosts Brian Butch Basketball Camps!
URL:https://championcenterwi.com/event/brian-butch-basketball-camps-7/
CATEGORIES:Basketball
ATTACH;FMTTYPE=image/png:https://championcenterwi.com/wp-content/uploads/2025/03/Brian-Butch-vhySdb.tmp_.png
END:VEVENT
BEGIN:VEVENT
DTSTART;VALUE=DATE:20250625
DTEND;VALUE=DATE:20250626
DTSTAMP:20260419T192813
CREATED:20250424T145751Z
LAST-MODIFIED:20250501T014645Z
UID:10000409-1750809600-1750895999@championcenterwi.com
SUMMARY:BLIZZARD USA WEEKDAY TOURNAMENT – Girls 12U-17U
DESCRIPTION:The Community First Champion Center hosts the Blizzard USA Weekday Tournament!
URL:https://championcenterwi.com/event/blizzard-usa-weekday-tournament-girls-12u-17u/
CATEGORIES:Basketball
ATTACH;FMTTYPE=image/jpeg:https://championcenterwi.com/wp-content/uploads/2025/03/rsk-sports-RFYfAD.tmp_.jpg
END:VEVENT
BEGIN:VEVENT
DTSTART;VALUE=DATE:20250624
DTEND;VALUE=DATE:20250625
DTSTAMP:20260419T192813
CREATED:20250424T145850Z
LAST-MODIFIED:20250618T203146Z
UID:10000412-1750723200-1750809599@championcenterwi.com
SUMMARY:Champions Cup 3v3 Hockey League
DESCRIPTION:Back for the Summer! The Community First Champion Center presents the Champions Cup 3v3 Hockey League!\nDATES (You will play one game per week): \nTuesday\, June 10\nTuesday\, June 17\nTuesday\, June 24\nTuesday\, July 8\nTuesday\, July 15\nTuesday\, July 22 \nMites/Squirts will play 8AM-12PM & PW/Bantams will play 11AM-3PM\n$125 per skater\, Goalies FREE! (You will pay the first week you are in attendance) \nClick here for Champions Cup Rules \nRESULTS:
URL:https://championcenterwi.com/event/champions-cup-3v3-hockey-league-4/
CATEGORIES:Hockey
ATTACH;FMTTYPE=image/png:https://championcenterwi.com/wp-content/uploads/2025/04/Untitled-31.png
END:VEVENT
BEGIN:VEVENT
DTSTART;VALUE=DATE:20250624
DTEND;VALUE=DATE:20250625
DTSTAMP:20260419T192813
CREATED:20250424T145849Z
LAST-MODIFIED:20250501T014407Z
UID:10000411-1750723200-1750809599@championcenterwi.com
SUMMARY:BLIZZARD USA WEEKDAY TOURNAMENT – Boys 12U-17U
DESCRIPTION:The Community First Champion Center hosts the Blizzard USA Weekday Tournament!
URL:https://championcenterwi.com/event/blizzard-usa-weekday-tournament-boys-12u-17u/
CATEGORIES:Basketball
ATTACH;FMTTYPE=image/jpeg:https://championcenterwi.com/wp-content/uploads/2025/03/rsk-sports-RFYfAD.tmp_.jpg
END:VEVENT
BEGIN:VEVENT
DTSTART;VALUE=DATE:20250623
DTEND;VALUE=DATE:20250625
DTSTAMP:20260419T192813
CREATED:20250424T145850Z
LAST-MODIFIED:20250430T231105Z
UID:10000413-1750636800-1750809599@championcenterwi.com
SUMMARY:Brian Butch Basketball Camps
DESCRIPTION:The Community First Champion Center hosts Brian Butch Basketball Camps!
URL:https://championcenterwi.com/event/brian-butch-basketball-camps-8/
CATEGORIES:Basketball
ATTACH;FMTTYPE=image/png:https://championcenterwi.com/wp-content/uploads/2025/03/Brian-Butch-vhySdb.tmp_.png
END:VEVENT
BEGIN:VEVENT
DTSTART;VALUE=DATE:20250620
DTEND;VALUE=DATE:20250623
DTSTAMP:20260419T192813
CREATED:20250424T145850Z
LAST-MODIFIED:20250610T145525Z
UID:10000414-1750377600-1750636799@championcenterwi.com
SUMMARY:Boys WIAA/WBCA June Jam
DESCRIPTION:The Community First Champion Center hosts the Boys WIAA/WBCA June Jam!\nIMPORTANT LINKS:\nTournament Schedule – CLICK HERE \nRegistration – REGISTRATION IS CLOSED \nTeam List – CLICK HERE \nCollege Coaches Link – CLICK HERE \nTournament Rules – CLICK HERE \nHotel List – CLICK HERE \n 
URL:https://championcenterwi.com/event/boys-wiaa-wbca-june-jam/
LOCATION:Community First Champion Center\, 5000 W. Champion Dr.\, Appleton\, WI\, 54913\, United States
CATEGORIES:Basketball
ATTACH;FMTTYPE=image/png:https://championcenterwi.com/wp-content/uploads/2025/03/Untitled-23-KC7kdF.tmp_.png
END:VEVENT
BEGIN:VEVENT
DTSTART;VALUE=DATE:20250617
DTEND;VALUE=DATE:20250618
DTSTAMP:20260419T192813
CREATED:20250424T145955Z
LAST-MODIFIED:20250613T174155Z
UID:10000415-1750118400-1750204799@championcenterwi.com
SUMMARY:Champions Cup 3v3 Hockey League
DESCRIPTION:Back for the Summer! The Community First Champion Center presents the Champions Cup 3v3 Hockey League!\nDATES (You will play one game per week): \nTuesday\, June 10\nTuesday\, June 17\nTuesday\, June 24\nTuesday\, July 8\nTuesday\, July 15\nTuesday\, July 22 \nMites/Squirts will play 8AM-12PM & PW/Bantams will play 11AM-3PM\n$125 per skater\, Goalies FREE! (You will pay the first week you are in attendance) \nClick here for Champions Cup Rules \nRESULTS:
URL:https://championcenterwi.com/event/champions-cup-3v3-hockey-league-5/
CATEGORIES:Hockey
ATTACH;FMTTYPE=image/png:https://championcenterwi.com/wp-content/uploads/2025/04/Untitled-31.png
END:VEVENT
BEGIN:VEVENT
DTSTART;VALUE=DATE:20250616
DTEND;VALUE=DATE:20250618
DTSTAMP:20260419T192813
CREATED:20250424T145955Z
LAST-MODIFIED:20250501T013830Z
UID:10000416-1750032000-1750204799@championcenterwi.com
SUMMARY:Nike Volleyball Camp – Girls
DESCRIPTION:The Community First Champion Center hosts the Nike Volleyball Camp!
URL:https://championcenterwi.com/event/nike-volleyball-camp-girls-2/
CATEGORIES:Volleyball
ATTACH;FMTTYPE=image/png:https://championcenterwi.com/wp-content/uploads/2025/03/Untitled-10-Rm4owd.tmp_.png
END:VEVENT
BEGIN:VEVENT
DTSTART;VALUE=DATE:20250613
DTEND;VALUE=DATE:20250616
DTSTAMP:20260419T192813
CREATED:20250424T145956Z
LAST-MODIFIED:20250501T013650Z
UID:10000417-1749772800-1750031999@championcenterwi.com
SUMMARY:Prep Hoops Next – Summer Slam
DESCRIPTION:The Community First Champion Center hosts the Prep Hoops Next – Summer Slam tournament!
URL:https://championcenterwi.com/event/prep-hoops-next-summer-slam/
CATEGORIES:Basketball
ATTACH;FMTTYPE=image/png:https://championcenterwi.com/wp-content/uploads/2025/03/Untitled-7-08Vxod.tmp_.png
END:VEVENT
BEGIN:VEVENT
DTSTART;VALUE=DATE:20250612
DTEND;VALUE=DATE:20250614
DTSTAMP:20260419T192813
CREATED:20250424T145956Z
LAST-MODIFIED:20250610T145347Z
UID:10000418-1749686400-1749859199@championcenterwi.com
SUMMARY:Girls WIAA/WBCA Summer Slam
DESCRIPTION:The Community First Champion Center hosts the Girls WIAA/WBCA Summer Slam!\nIMPORTANT LINKS:\nTournament Schedule – CLICK HERE \nRegistration – REGISTRATION IS CLOSED \nTeam List – CLICK HERE \nCollege Coaches Link – CLICK HERE \nTournament Rules – CLICK HERE \nHotel List – CLICK HERE
URL:https://championcenterwi.com/event/girls-wiaa-wbca-summer-slam/
CATEGORIES:Basketball
ATTACH;FMTTYPE=image/png:https://championcenterwi.com/wp-content/uploads/2025/03/Untitled-2-23-zDtusj.tmp_.png
END:VEVENT
BEGIN:VEVENT
DTSTART;VALUE=DATE:20250611
DTEND;VALUE=DATE:20250612
DTSTAMP:20260419T192813
CREATED:20250424T145957Z
LAST-MODIFIED:20250430T230511Z
UID:10000419-1749600000-1749686399@championcenterwi.com
SUMMARY:Brian Butch Basketball Camps
DESCRIPTION:The Community First Champion Center hosts Brian Butch Basketball Camps!
URL:https://championcenterwi.com/event/brian-butch-basketball-camps-9/
CATEGORIES:Basketball
ATTACH;FMTTYPE=image/png:https://championcenterwi.com/wp-content/uploads/2025/03/Brian-Butch-vhySdb.tmp_.png
END:VEVENT
BEGIN:VEVENT
DTSTART;VALUE=DATE:20250610
DTEND;VALUE=DATE:20250611
DTSTAMP:20260419T192813
CREATED:20250424T150055Z
LAST-MODIFIED:20250501T204611Z
UID:10000420-1749513600-1749599999@championcenterwi.com
SUMMARY:Champions Cup 3v3 Hockey League
DESCRIPTION:Back for the Summer! The Community First Champion Center presents the Champions Cup 3v3 Hockey League!\nDATES (You will play one game per week): \nTuesday\, June 10\nTuesday\, June 17\nTuesday\, June 24\nTuesday\, July 8\nTuesday\, July 15\nTuesday\, July 22 \nMites/Squirts will play 8AM-12PM & PW/Bantams will play 11AM-3PM\n$125 per skater\, Goalies FREE! (You will pay the first week you are in attendance) \nREGISTER HERE:\nChampions Cup 3v3 Registration Summer 2025\nChampions Cup 3v3 Goalie Registration Summer 2025\nClick here for Champions Cup Rules
URL:https://championcenterwi.com/event/champions-cup-3v3-hockey-league-6/
CATEGORIES:Hockey
ATTACH;FMTTYPE=image/png:https://championcenterwi.com/wp-content/uploads/2025/04/Untitled-31.png
END:VEVENT
BEGIN:VEVENT
DTSTART;VALUE=DATE:20250610
DTEND;VALUE=DATE:20250611
DTSTAMP:20260419T192813
CREATED:20250424T150055Z
LAST-MODIFIED:20250430T223150Z
UID:10000421-1749513600-1749599999@championcenterwi.com
SUMMARY:Brian Butch Basketball Camps
DESCRIPTION:The Community First Champion Center hosts Brian Butch Basketball Camps!
URL:https://championcenterwi.com/event/brian-butch-basketball-camps-10/
CATEGORIES:Basketball
ATTACH;FMTTYPE=image/png:https://championcenterwi.com/wp-content/uploads/2025/03/Brian-Butch-vhySdb.tmp_.png
END:VEVENT
BEGIN:VEVENT
DTSTART;VALUE=DATE:20250609
DTEND;VALUE=DATE:20250610
DTSTAMP:20260419T192813
CREATED:20250424T150056Z
LAST-MODIFIED:20250430T222653Z
UID:10000422-1749427200-1749513599@championcenterwi.com
SUMMARY:Brian Butch Basketball Camps
DESCRIPTION:The Community First Champion Center hosts Brian Butch Basketball Camps!
URL:https://championcenterwi.com/event/brian-butch-basketball-camps-11/
CATEGORIES:Basketball
ATTACH;FMTTYPE=image/png:https://championcenterwi.com/wp-content/uploads/2025/03/Brian-Butch-vhySdb.tmp_.png
END:VEVENT
END:VCALENDAR