BEGIN:VCALENDAR
VERSION:2.0
PRODID:-//Community First Champion Center - ECPv6.15.20//NONSGML v1.0//EN
CALSCALE:GREGORIAN
METHOD:PUBLISH
X-WR-CALNAME:Community First Champion Center
X-ORIGINAL-URL:https://championcenterwi.com
X-WR-CALDESC:Events for Community First Champion Center
REFRESH-INTERVAL;VALUE=DURATION:PT1H
X-Robots-Tag:noindex
X-PUBLISHED-TTL:PT1H
BEGIN:VTIMEZONE
TZID:America/Chicago
BEGIN:DAYLIGHT
TZOFFSETFROM:-0600
TZOFFSETTO:-0500
TZNAME:CDT
DTSTART:20240310T080000
END:DAYLIGHT
BEGIN:STANDARD
TZOFFSETFROM:-0500
TZOFFSETTO:-0600
TZNAME:CST
DTSTART:20241103T070000
END:STANDARD
BEGIN:DAYLIGHT
TZOFFSETFROM:-0600
TZOFFSETTO:-0500
TZNAME:CDT
DTSTART:20250309T080000
END:DAYLIGHT
BEGIN:STANDARD
TZOFFSETFROM:-0500
TZOFFSETTO:-0600
TZNAME:CST
DTSTART:20251102T070000
END:STANDARD
BEGIN:DAYLIGHT
TZOFFSETFROM:-0600
TZOFFSETTO:-0500
TZNAME:CDT
DTSTART:20260308T080000
END:DAYLIGHT
BEGIN:STANDARD
TZOFFSETFROM:-0500
TZOFFSETTO:-0600
TZNAME:CST
DTSTART:20261101T070000
END:STANDARD
BEGIN:DAYLIGHT
TZOFFSETFROM:-0600
TZOFFSETTO:-0500
TZNAME:CDT
DTSTART:20270314T080000
END:DAYLIGHT
BEGIN:STANDARD
TZOFFSETFROM:-0500
TZOFFSETTO:-0600
TZNAME:CST
DTSTART:20271107T070000
END:STANDARD
END:VTIMEZONE
BEGIN:VEVENT
DTSTART;VALUE=DATE:20251114
DTEND;VALUE=DATE:20251117
DTSTAMP:20260420T014826
CREATED:20250917T204215Z
LAST-MODIFIED:20250917T204215Z
UID:10000468-1763078400-1763337599@championcenterwi.com
SUMMARY:The Fall Classic (SQ C1)
DESCRIPTION:The Community First Champion Center hosts The Fall Classic (SQ C1)!
URL:https://championcenterwi.com/event/the-fall-classic-sq-c1/
CATEGORIES:Hockey
ATTACH;FMTTYPE=image/png:https://championcenterwi.com/wp-content/uploads/2025/09/Hockey-Event-Logos.png
END:VEVENT
BEGIN:VEVENT
DTSTART;VALUE=DATE:20251115
DTEND;VALUE=DATE:20251116
DTSTAMP:20260420T014826
CREATED:20250806T181429Z
LAST-MODIFIED:20250806T181627Z
UID:10000442-1763164800-1763251199@championcenterwi.com
SUMMARY:BADL Basketball Event
DESCRIPTION:The Community First Champion Center hosts a BADL Basketball event!
URL:https://championcenterwi.com/event/badl-basketball-event/
CATEGORIES:Basketball
ATTACH;FMTTYPE=image/png:https://championcenterwi.com/wp-content/uploads/2025/08/Untitled-5-11.png
END:VEVENT
BEGIN:VEVENT
DTSTART;VALUE=DATE:20251116
DTEND;VALUE=DATE:20251117
DTSTAMP:20260420T014826
CREATED:20250806T183258Z
LAST-MODIFIED:20250806T183258Z
UID:10000450-1763251200-1763337599@championcenterwi.com
SUMMARY:RSK Sports B Level Basketball Tournament
DESCRIPTION:The Community First Champion Center hosts an RSK Sports B Level Basketball Tournament!
URL:https://championcenterwi.com/event/rsk-sports-b-level-basketball-tournament/
CATEGORIES:Basketball
ATTACH;FMTTYPE=image/jpeg:https://championcenterwi.com/wp-content/uploads/2025/03/rsk-sports-RFYfAD.tmp_.jpg
END:VEVENT
BEGIN:VEVENT
DTSTART;VALUE=DATE:20251122
DTEND;VALUE=DATE:20251124
DTSTAMP:20260420T014826
CREATED:20250806T181722Z
LAST-MODIFIED:20250806T181722Z
UID:10000443-1763769600-1763942399@championcenterwi.com
SUMMARY:BADL Basketball Event
DESCRIPTION:The Community First Champion Center hosts a BADL Basketball event!
URL:https://championcenterwi.com/event/badl-basketball-event-2/
CATEGORIES:Basketball
ATTACH;FMTTYPE=image/png:https://championcenterwi.com/wp-content/uploads/2025/08/Untitled-5-11.png
END:VEVENT
BEGIN:VEVENT
DTSTART;VALUE=DATE:20251122
DTEND;VALUE=DATE:20251124
DTSTAMP:20260420T014826
CREATED:20250917T204644Z
LAST-MODIFIED:20250917T204644Z
UID:10000469-1763769600-1763942399@championcenterwi.com
SUMMARY:Brawl in the Fall (SQ C2)
DESCRIPTION:The Community First Champion Center hosts The Brawl in the Fall (SQ C2)!
URL:https://championcenterwi.com/event/brawl-in-the-fall-sq-c2/
CATEGORIES:Hockey
ATTACH;FMTTYPE=image/png:https://championcenterwi.com/wp-content/uploads/2025/09/Hockey-Event-Logos-2.png
END:VEVENT
BEGIN:VEVENT
DTSTART;TZID=America/Chicago:20251124T110000
DTEND;TZID=America/Chicago:20251124T180000
DTSTAMP:20260420T014826
CREATED:20251029T151852Z
LAST-MODIFIED:20251029T151852Z
UID:10000479-1763982000-1764007200@championcenterwi.com
SUMMARY:Season of Giving Blood Drive
DESCRIPTION:The Community First Champion Center hosts the Season of Giving Blood Drive on Monday\, November 24 from 11:00AM to 6:00PM!\n 
URL:https://championcenterwi.com/event/season-of-giving-blood-drive/
ATTACH;FMTTYPE=image/jpeg:https://championcenterwi.com/wp-content/uploads/2025/10/CBC_logo_308.jpg
END:VEVENT
BEGIN:VEVENT
DTSTART;VALUE=DATE:20251128
DTEND;VALUE=DATE:20251129
DTSTAMP:20260420T014826
CREATED:20250806T182508Z
LAST-MODIFIED:20250806T182508Z
UID:10000447-1764288000-1764374399@championcenterwi.com
SUMMARY:RSK Sports Thanksgiving 3 on 3 Tournament
DESCRIPTION:The Community First Champion Center hosts the RSK Sports Thanksgiving 3on3 Tournament!
URL:https://championcenterwi.com/event/rsk-sports-thanksgiving-3-on-3-tournament/
CATEGORIES:Basketball
ATTACH;FMTTYPE=image/jpeg:https://championcenterwi.com/wp-content/uploads/2025/03/rsk-sports-RFYfAD.tmp_.jpg
END:VEVENT
BEGIN:VEVENT
DTSTART;VALUE=DATE:20251129
DTEND;VALUE=DATE:20251130
DTSTAMP:20260420T014826
CREATED:20250822T170709Z
LAST-MODIFIED:20250822T170709Z
UID:10000465-1764374400-1764460799@championcenterwi.com
SUMMARY:Girls HS JV2 Basketball Tournament
DESCRIPTION:The Community First Champion Center hosts the Girls HS JV2 Basketball Tournament!
URL:https://championcenterwi.com/event/girls-hs-jv2-basketball-tournament/
CATEGORIES:Volleyball
ATTACH;FMTTYPE=image/webp:https://championcenterwi.com/wp-content/uploads/2025/04/cropped-favicon.webp
END:VEVENT
BEGIN:VEVENT
DTSTART;VALUE=DATE:20251205
DTEND;VALUE=DATE:20251208
DTSTAMP:20260420T014826
CREATED:20250917T205600Z
LAST-MODIFIED:20250917T205600Z
UID:10000470-1764892800-1765151999@championcenterwi.com
SUMMARY:Fox River Girls Classic
DESCRIPTION:The Community First Champion Center hosts the Fox River Girls Classic!
URL:https://championcenterwi.com/event/fox-river-girls-classic/
CATEGORIES:Hockey
ATTACH;FMTTYPE=image/png:https://championcenterwi.com/wp-content/uploads/2025/09/Hockey-Event-Logos-3.png
END:VEVENT
BEGIN:VEVENT
DTSTART;VALUE=DATE:20251212
DTEND;VALUE=DATE:20251215
DTSTAMP:20260420T014826
CREATED:20250917T210958Z
LAST-MODIFIED:20250917T210958Z
UID:10000475-1765497600-1765756799@championcenterwi.com
SUMMARY:Freeze 14U Showcase
DESCRIPTION:The Community First Champion Center hosts the Freeze 14U Showcase!
URL:https://championcenterwi.com/event/freeze-14u-showcase/
CATEGORIES:Hockey
ATTACH;FMTTYPE=image/png:https://championcenterwi.com/wp-content/uploads/2025/09/Hockey-Event-Logos-3.png
END:VEVENT
BEGIN:VEVENT
DTSTART;VALUE=DATE:20251220
DTEND;VALUE=DATE:20251221
DTSTAMP:20260420T014826
CREATED:20250806T181836Z
LAST-MODIFIED:20250806T181836Z
UID:10000445-1766188800-1766275199@championcenterwi.com
SUMMARY:BADL Basketball Event
DESCRIPTION:The Community First Champion Center hosts a BADL Basketball event!
URL:https://championcenterwi.com/event/badl-basketball-event-4/
CATEGORIES:Basketball
ATTACH;FMTTYPE=image/png:https://championcenterwi.com/wp-content/uploads/2025/08/Untitled-5-11.png
END:VEVENT
BEGIN:VEVENT
DTSTART;VALUE=DATE:20251220
DTEND;VALUE=DATE:20251222
DTSTAMP:20260420T014826
CREATED:20250917T210316Z
LAST-MODIFIED:20250917T210316Z
UID:10000472-1766188800-1766361599@championcenterwi.com
SUMMARY:Bantam Showcase
DESCRIPTION:The Community First Champion Center hosts the Bantam Showcase!
URL:https://championcenterwi.com/event/bantam-showcase/
CATEGORIES:Hockey
ATTACH;FMTTYPE=image/png:https://championcenterwi.com/wp-content/uploads/2025/09/Hockey-Event-Logos-4.png
END:VEVENT
BEGIN:VEVENT
DTSTART;VALUE=DATE:20251221
DTEND;VALUE=DATE:20251222
DTSTAMP:20260420T014826
CREATED:20250806T183449Z
LAST-MODIFIED:20250806T183449Z
UID:10000451-1766275200-1766361599@championcenterwi.com
SUMMARY:RSK Sports B Level Basketball Tournament
DESCRIPTION:The Community First Champion Center hosts an RSK Sports B Level Basketball Tournament!
URL:https://championcenterwi.com/event/rsk-sports-b-level-basketball-tournament-2/
CATEGORIES:Basketball
ATTACH;FMTTYPE=image/jpeg:https://championcenterwi.com/wp-content/uploads/2025/03/rsk-sports-RFYfAD.tmp_.jpg
END:VEVENT
BEGIN:VEVENT
DTSTART;VALUE=DATE:20251227
DTEND;VALUE=DATE:20251228
DTSTAMP:20260420T014826
CREATED:20250806T185512Z
LAST-MODIFIED:20250806T185512Z
UID:10000457-1766793600-1766879999@championcenterwi.com
SUMMARY:Aviators Wrestling Event
DESCRIPTION:The Community First Champion Center hosts the Aviators Wrestling event!
URL:https://championcenterwi.com/event/aviators-wrestling-event-2/
CATEGORIES:Wrestling
ATTACH;FMTTYPE=image/png:https://championcenterwi.com/wp-content/uploads/2025/08/Untitled-4-11.png
END:VEVENT
BEGIN:VEVENT
DTSTART;VALUE=DATE:20251229
DTEND;VALUE=DATE:20251230
DTSTAMP:20260420T014826
CREATED:20250806T182753Z
LAST-MODIFIED:20250806T182753Z
UID:10000448-1766966400-1767052799@championcenterwi.com
SUMMARY:RSK Sports BOYS Holiday 3on3 Tournament
DESCRIPTION:The Community First Champion Center hosts the RSK Sports BOYS Holiday 3on3 Tournament!
URL:https://championcenterwi.com/event/rsk-sports-boys-holiday-3on3-tournament/
CATEGORIES:Basketball
ATTACH;FMTTYPE=image/jpeg:https://championcenterwi.com/wp-content/uploads/2025/03/rsk-sports-RFYfAD.tmp_.jpg
END:VEVENT
BEGIN:VEVENT
DTSTART;VALUE=DATE:20251230
DTEND;VALUE=DATE:20251231
DTSTAMP:20260420T014826
CREATED:20250806T182849Z
LAST-MODIFIED:20250806T182849Z
UID:10000449-1767052800-1767139199@championcenterwi.com
SUMMARY:RSK Sports GIRLS Holiday 3on3 Tournament
DESCRIPTION:The Community First Champion Center hosts the RSK Sports GIRLS Holiday 3on3 Tournament!
URL:https://championcenterwi.com/event/rsk-sports-girls-holiday-3on3-tournament/
CATEGORIES:Basketball
ATTACH;FMTTYPE=image/jpeg:https://championcenterwi.com/wp-content/uploads/2025/03/rsk-sports-RFYfAD.tmp_.jpg
END:VEVENT
BEGIN:VEVENT
DTSTART;VALUE=DATE:20260102
DTEND;VALUE=DATE:20260105
DTSTAMP:20260420T014826
CREATED:20250917T210519Z
LAST-MODIFIED:20250917T210519Z
UID:10000473-1767312000-1767571199@championcenterwi.com
SUMMARY:Clash at the Champion (PWB)
DESCRIPTION:The Community First Champion Center hosts the Clash at the Champion (PWB)!
URL:https://championcenterwi.com/event/clash-at-the-champion-pwb/
CATEGORIES:Hockey
ATTACH;FMTTYPE=image/png:https://championcenterwi.com/wp-content/uploads/2025/09/Hockey-Event-Logos-4.png
END:VEVENT
BEGIN:VEVENT
DTSTART;VALUE=DATE:20260103
DTEND;VALUE=DATE:20260105
DTSTAMP:20260420T014826
CREATED:20250806T190419Z
LAST-MODIFIED:20250806T190419Z
UID:10000458-1767398400-1767571199@championcenterwi.com
SUMMARY:Prep Dig Resolution 11s-14s
DESCRIPTION:The Community First Champion Center hosts the Prep Dig Resolution 11s-14s!
URL:https://championcenterwi.com/event/prep-dig-resolution-11s-14s/
CATEGORIES:Volleyball
ATTACH;FMTTYPE=image/png:https://championcenterwi.com/wp-content/uploads/2025/08/Untitled-6-5.png
END:VEVENT
BEGIN:VEVENT
DTSTART;VALUE=DATE:20260109
DTEND;VALUE=DATE:20260112
DTSTAMP:20260420T014826
CREATED:20250917T210751Z
LAST-MODIFIED:20250917T210751Z
UID:10000474-1767916800-1768175999@championcenterwi.com
SUMMARY:EJ'S PeeWee Classic (PWA)
DESCRIPTION:The Community First Champion Center hosts the EJ’S PeeWee Classic (PWA)!
URL:https://championcenterwi.com/event/ejs-peewee-classic-pwa/
CATEGORIES:Hockey
ATTACH;FMTTYPE=image/png:https://championcenterwi.com/wp-content/uploads/2025/09/Hockey-Event-Logos-5.png
END:VEVENT
BEGIN:VEVENT
DTSTART;VALUE=DATE:20260110
DTEND;VALUE=DATE:20260112
DTSTAMP:20260420T014826
CREATED:20250806T190637Z
LAST-MODIFIED:20250806T190637Z
UID:10000459-1768003200-1768175999@championcenterwi.com
SUMMARY:Prep Dig Resolution 15s-18s
DESCRIPTION:The Community First Champion Center hosts the Prep Dig Resolution 15s-18s!
URL:https://championcenterwi.com/event/prep-dig-resolution-15s-18s/
CATEGORIES:Volleyball
ATTACH;FMTTYPE=image/png:https://championcenterwi.com/wp-content/uploads/2025/08/Untitled-6-5.png
END:VEVENT
BEGIN:VEVENT
DTSTART;VALUE=DATE:20260116
DTEND;VALUE=DATE:20260119
DTSTAMP:20260420T014826
CREATED:20250917T205745Z
LAST-MODIFIED:20250917T205745Z
UID:10000471-1768521600-1768780799@championcenterwi.com
SUMMARY:Fox River Girls Classic U12
DESCRIPTION:The Community First Champion Center hosts the Fox River Girls Classic U12!
URL:https://championcenterwi.com/event/fox-river-girls-classic-u12/
CATEGORIES:Hockey
ATTACH;FMTTYPE=image/png:https://championcenterwi.com/wp-content/uploads/2025/09/Hockey-Event-Logos-3.png
END:VEVENT
BEGIN:VEVENT
DTSTART;VALUE=DATE:20260117
DTEND;VALUE=DATE:20260118
DTSTAMP:20260420T014826
CREATED:20260107T220456Z
LAST-MODIFIED:20260107T221027Z
UID:10000487-1768608000-1768694399@championcenterwi.com
SUMMARY:Blaze January Jump-Start (Volleyball)
DESCRIPTION:The Community First Champion Center hosts the Blaze January Jump-Start!
URL:https://championcenterwi.com/event/blaze-january-jump-start/
CATEGORIES:Volleyball
ATTACH;FMTTYPE=image/png:https://championcenterwi.com/wp-content/uploads/2026/01/6a6bf0_abe5dbb0ee62492587661dbccb76d844mv2.png
END:VEVENT
BEGIN:VEVENT
DTSTART;VALUE=DATE:20260118
DTEND;VALUE=DATE:20260119
DTSTAMP:20260420T014827
CREATED:20250806T183546Z
LAST-MODIFIED:20250806T183546Z
UID:10000452-1768694400-1768780799@championcenterwi.com
SUMMARY:RSK Sports B Level Basketball Tournament
DESCRIPTION:The Community First Champion Center hosts an RSK Sports B Level Basketball Tournament!
URL:https://championcenterwi.com/event/rsk-sports-b-level-basketball-tournament-3/
CATEGORIES:Basketball
ATTACH;FMTTYPE=image/jpeg:https://championcenterwi.com/wp-content/uploads/2025/03/rsk-sports-RFYfAD.tmp_.jpg
END:VEVENT
BEGIN:VEVENT
DTSTART;VALUE=DATE:20260123
DTEND;VALUE=DATE:20260126
DTSTAMP:20260420T014827
CREATED:20250917T211134Z
LAST-MODIFIED:20250917T211134Z
UID:10000476-1769126400-1769385599@championcenterwi.com
SUMMARY:A-Town Showdown (SQ B)
DESCRIPTION:The Community First Champion Center hosts the A-Town Showdown (SQ B)!
URL:https://championcenterwi.com/event/a-town-showdown-sq-b/
CATEGORIES:Hockey
ATTACH;FMTTYPE=image/png:https://championcenterwi.com/wp-content/uploads/2025/09/Hockey-Event-Logos-4.png
END:VEVENT
BEGIN:VEVENT
DTSTART;VALUE=DATE:20260124
DTEND;VALUE=DATE:20260125
DTSTAMP:20260420T014827
CREATED:20250806T182152Z
LAST-MODIFIED:20250806T182152Z
UID:10000446-1769212800-1769299199@championcenterwi.com
SUMMARY:BADL Basketball Event
DESCRIPTION:The Community First Champion Center hosts a BADL Basketball event!
URL:https://championcenterwi.com/event/badl-basketball-event-5/
CATEGORIES:Basketball
ATTACH;FMTTYPE=image/png:https://championcenterwi.com/wp-content/uploads/2025/08/Untitled-5-11.png
END:VEVENT
BEGIN:VEVENT
DTSTART;VALUE=DATE:20260125
DTEND;VALUE=DATE:20260126
DTSTAMP:20260420T014827
CREATED:20250806T183623Z
LAST-MODIFIED:20250806T183623Z
UID:10000453-1769299200-1769385599@championcenterwi.com
SUMMARY:RSK Sports B Level Basketball Tournament
DESCRIPTION:The Community First Champion Center hosts an RSK Sports B Level Basketball Tournament!
URL:https://championcenterwi.com/event/rsk-sports-b-level-basketball-tournament-4/
CATEGORIES:Basketball
ATTACH;FMTTYPE=image/jpeg:https://championcenterwi.com/wp-content/uploads/2025/03/rsk-sports-RFYfAD.tmp_.jpg
END:VEVENT
BEGIN:VEVENT
DTSTART;VALUE=DATE:20260130
DTEND;VALUE=DATE:20260202
DTSTAMP:20260420T014827
CREATED:20250917T211415Z
LAST-MODIFIED:20250917T211415Z
UID:10000477-1769731200-1769990399@championcenterwi.com
SUMMARY:Mid-Winter Classic (SQA)
DESCRIPTION:The Community First Champion Center hosts the Mid-Winter Classic (SQA)!
URL:https://championcenterwi.com/event/mid-winter-classic-sqa/
CATEGORIES:Hockey
ATTACH;FMTTYPE=image/png:https://championcenterwi.com/wp-content/uploads/2025/09/Hockey-Event-Logos-6.png
END:VEVENT
BEGIN:VEVENT
DTSTART;VALUE=DATE:20260131
DTEND;VALUE=DATE:20260202
DTSTAMP:20260420T014827
CREATED:20260107T220923Z
LAST-MODIFIED:20260107T220923Z
UID:10000488-1769817600-1769990399@championcenterwi.com
SUMMARY:Blaze Battle I & II (Volleyball)
DESCRIPTION:The Community First Champion Center hosts the Blaze Battle I & II!
URL:https://championcenterwi.com/event/blaze-battle-i-ii-volleyball/
CATEGORIES:Volleyball
ATTACH;FMTTYPE=image/png:https://championcenterwi.com/wp-content/uploads/2026/01/6a6bf0_abe5dbb0ee62492587661dbccb76d844mv2.png
END:VEVENT
BEGIN:VEVENT
DTSTART;VALUE=DATE:20260206
DTEND;VALUE=DATE:20260208
DTSTAMP:20260420T014827
CREATED:20260124T202634Z
LAST-MODIFIED:20260124T202634Z
UID:10000506-1770336000-1770508799@championcenterwi.com
SUMMARY:Fox Cities Winter Classic
DESCRIPTION:The Community First Champion Center hosts the Fox Cities Winter Classic!
URL:https://championcenterwi.com/event/fox-cities-winter-classic/
CATEGORIES:Figure Skating
ATTACH;FMTTYPE=image/jpeg:https://championcenterwi.com/wp-content/uploads/2026/01/IMG_7675.jpeg
END:VEVENT
BEGIN:VEVENT
DTSTART;VALUE=DATE:20260207
DTEND;VALUE=DATE:20260209
DTSTAMP:20260420T014827
CREATED:20250806T184807Z
LAST-MODIFIED:20250806T184807Z
UID:10000454-1770422400-1770595199@championcenterwi.com
SUMMARY:BADL Basketball Event
DESCRIPTION:The Community First Champion Center hosts a BADL Basketball event!
URL:https://championcenterwi.com/event/badl-basketball-event-6/
CATEGORIES:Basketball
ATTACH;FMTTYPE=image/png:https://championcenterwi.com/wp-content/uploads/2025/08/Untitled-5-11.png
END:VEVENT
END:VCALENDAR