BEGIN:VCALENDAR
VERSION:2.0
PRODID:-//Community First Champion Center - ECPv6.15.20//NONSGML v1.0//EN
CALSCALE:GREGORIAN
METHOD:PUBLISH
X-WR-CALNAME:Community First Champion Center
X-ORIGINAL-URL:https://championcenterwi.com
X-WR-CALDESC:Events for Community First Champion Center
REFRESH-INTERVAL;VALUE=DURATION:PT1H
X-Robots-Tag:noindex
X-PUBLISHED-TTL:PT1H
BEGIN:VTIMEZONE
TZID:America/Chicago
BEGIN:DAYLIGHT
TZOFFSETFROM:-0600
TZOFFSETTO:-0500
TZNAME:CDT
DTSTART:20240310T080000
END:DAYLIGHT
BEGIN:STANDARD
TZOFFSETFROM:-0500
TZOFFSETTO:-0600
TZNAME:CST
DTSTART:20241103T070000
END:STANDARD
BEGIN:DAYLIGHT
TZOFFSETFROM:-0600
TZOFFSETTO:-0500
TZNAME:CDT
DTSTART:20250309T080000
END:DAYLIGHT
BEGIN:STANDARD
TZOFFSETFROM:-0500
TZOFFSETTO:-0600
TZNAME:CST
DTSTART:20251102T070000
END:STANDARD
BEGIN:DAYLIGHT
TZOFFSETFROM:-0600
TZOFFSETTO:-0500
TZNAME:CDT
DTSTART:20260308T080000
END:DAYLIGHT
BEGIN:STANDARD
TZOFFSETFROM:-0500
TZOFFSETTO:-0600
TZNAME:CST
DTSTART:20261101T070000
END:STANDARD
END:VTIMEZONE
BEGIN:VEVENT
DTSTART;VALUE=DATE:20250502
DTEND;VALUE=DATE:20250505
DTSTAMP:20260419T205022
CREATED:20250424T150203Z
LAST-MODIFIED:20250430T220114Z
UID:10000428-1746144000-1746403199@championcenterwi.com
SUMMARY:Prep Girls Hoops – Champions Challenge
DESCRIPTION:The Community First Champion Center hosts the Prep Girls Hoops – Champions Challenge tournament!
URL:https://championcenterwi.com/event/prep-girls-hoops-champions-challenge/
CATEGORIES:Basketball
ATTACH;FMTTYPE=image/webp:https://championcenterwi.com/wp-content/uploads/2025/04/champions_challenge.webp
END:VEVENT
BEGIN:VEVENT
DTSTART;VALUE=DATE:20250510
DTEND;VALUE=DATE:20250512
DTSTAMP:20260419T205022
CREATED:20250424T150203Z
LAST-MODIFIED:20250430T220247Z
UID:10000427-1746835200-1747007999@championcenterwi.com
SUMMARY:Select Events – Battle in the Badger State
DESCRIPTION:The Community First Champion Center hosts the Select Events – Battle in the Badger State tournament!
URL:https://championcenterwi.com/event/select-events-battle-in-the-badger-state/
CATEGORIES:Basketball
ATTACH;FMTTYPE=image/png:https://championcenterwi.com/wp-content/uploads/2025/03/Select_Events_Logo-3bOaqg.tmp_.png
END:VEVENT
BEGIN:VEVENT
DTSTART;VALUE=DATE:20250517
DTEND;VALUE=DATE:20250519
DTSTAMP:20260419T205022
CREATED:20250424T150203Z
LAST-MODIFIED:20250430T220431Z
UID:10000426-1747440000-1747612799@championcenterwi.com
SUMMARY:LOVBfest – Hosted by FC Elite
DESCRIPTION:The Community First Champion Center hosts the LOVB Volleyball Tournament!
URL:https://championcenterwi.com/event/lovbfest-hosted-by-fc-elite/
CATEGORIES:Volleyball
ATTACH;FMTTYPE=image/jpeg:https://championcenterwi.com/wp-content/uploads/2025/03/Untitled-24-08qSaP.tmp_.jpg
END:VEVENT
BEGIN:VEVENT
DTSTART;VALUE=DATE:20250530
DTEND;VALUE=DATE:20250602
DTSTAMP:20260419T205022
CREATED:20250424T150057Z
LAST-MODIFIED:20250430T221859Z
UID:10000424-1748563200-1748822399@championcenterwi.com
SUMMARY:Prep Girls Hoops – Legacy Region Finals
DESCRIPTION:The Community First Champion Center hosts the Prep Girls Hoops – Legacy Region Finals tournament!
URL:https://championcenterwi.com/event/prep-girls-hoops-legacy-region-finals/
CATEGORIES:Basketball
ATTACH;FMTTYPE=image/png:https://championcenterwi.com/wp-content/uploads/2025/03/Untitled-4-7-bOWOrk.tmp_.png
END:VEVENT
BEGIN:VEVENT
DTSTART;VALUE=DATE:20250530
DTEND;VALUE=DATE:20250602
DTSTAMP:20260419T205022
CREATED:20250424T150202Z
LAST-MODIFIED:20250430T222213Z
UID:10000425-1748563200-1748822399@championcenterwi.com
SUMMARY:Prep Hoops – Wisconsin State Tournament
DESCRIPTION:The Community First Champion Center hosts the Prep Hoops – Wisconsin State Tournament!
URL:https://championcenterwi.com/event/prep-hoops-wisconsin-state-tournament/
CATEGORIES:Basketball
ATTACH;FMTTYPE=image/png:https://championcenterwi.com/wp-content/uploads/2025/03/Untitled-6-1-8XdY31.tmp_.png
END:VEVENT
END:VCALENDAR