BEGIN:VCALENDAR
VERSION:2.0
PRODID:-//Community First Champion Center - ECPv6.15.20//NONSGML v1.0//EN
CALSCALE:GREGORIAN
METHOD:PUBLISH
X-WR-CALNAME:Community First Champion Center
X-ORIGINAL-URL:https://championcenterwi.com
X-WR-CALDESC:Events for Community First Champion Center
REFRESH-INTERVAL;VALUE=DURATION:PT1H
X-Robots-Tag:noindex
X-PUBLISHED-TTL:PT1H
BEGIN:VTIMEZONE
TZID:America/Chicago
BEGIN:DAYLIGHT
TZOFFSETFROM:-0600
TZOFFSETTO:-0500
TZNAME:CDT
DTSTART:20240310T080000
END:DAYLIGHT
BEGIN:STANDARD
TZOFFSETFROM:-0500
TZOFFSETTO:-0600
TZNAME:CST
DTSTART:20241103T070000
END:STANDARD
BEGIN:DAYLIGHT
TZOFFSETFROM:-0600
TZOFFSETTO:-0500
TZNAME:CDT
DTSTART:20250309T080000
END:DAYLIGHT
BEGIN:STANDARD
TZOFFSETFROM:-0500
TZOFFSETTO:-0600
TZNAME:CST
DTSTART:20251102T070000
END:STANDARD
BEGIN:DAYLIGHT
TZOFFSETFROM:-0600
TZOFFSETTO:-0500
TZNAME:CDT
DTSTART:20260308T080000
END:DAYLIGHT
BEGIN:STANDARD
TZOFFSETFROM:-0500
TZOFFSETTO:-0600
TZNAME:CST
DTSTART:20261101T070000
END:STANDARD
END:VTIMEZONE
BEGIN:VEVENT
DTSTART;VALUE=DATE:20250804
DTEND;VALUE=DATE:20250806
DTSTAMP:20260419T164952
CREATED:20250424T145521Z
LAST-MODIFIED:20250430T231822Z
UID:10000393-1754265600-1754438399@championcenterwi.com
SUMMARY:Brian Butch Basketball Camps
DESCRIPTION:The Community First Champion Center hosts Brian Butch Basketball Camps!
URL:https://championcenterwi.com/event/brian-butch-basketball-camps-3/
CATEGORIES:Basketball
ATTACH;FMTTYPE=image/png:https://championcenterwi.com/wp-content/uploads/2025/03/Brian-Butch-vhySdb.tmp_.png
END:VEVENT
BEGIN:VEVENT
DTSTART;VALUE=DATE:20250804
DTEND;VALUE=DATE:20250809
DTSTAMP:20260419T164952
CREATED:20250424T145520Z
LAST-MODIFIED:20250501T162017Z
UID:10000392-1754265600-1754697599@championcenterwi.com
SUMMARY:Planet Hockey 2025 SUPER Skills Camps
DESCRIPTION:Welcome to the Planet Hockey Super Skills Camp Page!\nVisit the Planet Hockey website below to register today!
URL:https://championcenterwi.com/event/planet-hockey-2025-super-skills-camps/
CATEGORIES:Hockey
ATTACH;FMTTYPE=image/png:https://championcenterwi.com/wp-content/uploads/2025/03/Untitled-6-cSDsPj.tmp_.png
END:VEVENT
BEGIN:VEVENT
DTSTART;VALUE=DATE:20250806
DTEND;VALUE=DATE:20250807
DTSTAMP:20260419T164952
CREATED:20250424T145520Z
LAST-MODIFIED:20250430T232136Z
UID:10000391-1754438400-1754524799@championcenterwi.com
SUMMARY:Brian Butch Basketball Camps
DESCRIPTION:The Community First Champion Center hosts Brian Butch Basketball Camps!
URL:https://championcenterwi.com/event/brian-butch-basketball-camps-2/
CATEGORIES:Basketball
ATTACH;FMTTYPE=image/png:https://championcenterwi.com/wp-content/uploads/2025/03/Brian-Butch-vhySdb.tmp_.png
END:VEVENT
BEGIN:VEVENT
DTSTART;VALUE=DATE:20250807
DTEND;VALUE=DATE:20250808
DTSTAMP:20260419T164952
CREATED:20250424T145519Z
LAST-MODIFIED:20250430T232613Z
UID:10000390-1754524800-1754611199@championcenterwi.com
SUMMARY:Brian Butch Basketball Camps
DESCRIPTION:The Community First Champion Center hosts Brian Butch Basketball Camps!
URL:https://championcenterwi.com/event/brian-butch-basketball-camps/
CATEGORIES:Basketball
ATTACH;FMTTYPE=image/png:https://championcenterwi.com/wp-content/uploads/2025/03/Brian-Butch-vhySdb.tmp_.png
END:VEVENT
BEGIN:VEVENT
DTSTART;VALUE=DATE:20250811
DTEND;VALUE=DATE:20250815
DTSTAMP:20260419T164952
CREATED:20250424T145445Z
LAST-MODIFIED:20250501T162201Z
UID:10000388-1754870400-1755215999@championcenterwi.com
SUMMARY:Nike Basketball Camp – Boys & Girls
DESCRIPTION:The Community First Champion Center hosts the Nike Basketball Camp!
URL:https://championcenterwi.com/event/nike-basketball-camp-boys-girls/
CATEGORIES:Basketball
ATTACH;FMTTYPE=image/png:https://championcenterwi.com/wp-content/uploads/2025/03/Untitled-10-Rm4owd.tmp_.png
END:VEVENT
BEGIN:VEVENT
DTSTART;VALUE=DATE:20250811
DTEND;VALUE=DATE:20250815
DTSTAMP:20260419T164952
CREATED:20250424T145446Z
LAST-MODIFIED:20250501T162302Z
UID:10000389-1754870400-1755215999@championcenterwi.com
SUMMARY:Nike Volleyball Camp – Girls
DESCRIPTION:The Community First Champion Center hosts the Nike Volleyball Camp!
URL:https://championcenterwi.com/event/nike-volleyball-camp-girls/
CATEGORIES:Volleyball
ATTACH;FMTTYPE=image/png:https://championcenterwi.com/wp-content/uploads/2025/03/Untitled-10-Rm4owd.tmp_.png
END:VEVENT
BEGIN:VEVENT
DTSTART;VALUE=DATE:20250813
DTEND;VALUE=DATE:20250815
DTSTAMP:20260419T164952
CREATED:20250424T145445Z
LAST-MODIFIED:20250501T162419Z
UID:10000387-1755043200-1755215999@championcenterwi.com
SUMMARY:Goalies\, Inc. Hockey Camp
DESCRIPTION:The Community First Champion Center hosts the Goalies\, Inc. Camps!
URL:https://championcenterwi.com/event/goalies-inc-hockey-camp/
CATEGORIES:Hockey
ATTACH;FMTTYPE=image/jpeg:https://championcenterwi.com/wp-content/uploads/2025/03/Untitled-28-YPMYgm.tmp_.jpg
END:VEVENT
BEGIN:VEVENT
DTSTART;VALUE=DATE:20250815
DTEND;VALUE=DATE:20250818
DTSTAMP:20260419T164952
CREATED:20250424T145444Z
LAST-MODIFIED:20250501T162547Z
UID:10000386-1755216000-1755475199@championcenterwi.com
SUMMARY:Breakthrough Basketball Camps – Essential Youth Skills & Decision Making
DESCRIPTION:The Community First Champion Center hosts the Breakthrough Basketball Camps!
URL:https://championcenterwi.com/event/breakthrough-basketball-camps-essential-youth-skills-decision-making/
CATEGORIES:Basketball
ATTACH;FMTTYPE=image/png:https://championcenterwi.com/wp-content/uploads/2025/03/Untitled-14-KFCByT.tmp_.png
END:VEVENT
BEGIN:VEVENT
DTSTART;VALUE=DATE:20250822
DTEND;VALUE=DATE:20250825
DTSTAMP:20260419T164952
CREATED:20250424T145443Z
LAST-MODIFIED:20250501T163256Z
UID:10000385-1755820800-1756079999@championcenterwi.com
SUMMARY:Power Edge Pro Hockey Clinic
DESCRIPTION:The Community First Champion Center hosts the Appleton Weekend Hockey Clinic by Power Edge Pro!
URL:https://championcenterwi.com/event/power-edge-pro-hockey-clinic/
CATEGORIES:Hockey
ATTACH;FMTTYPE=image/png:https://championcenterwi.com/wp-content/uploads/2025/04/Untitled-33-2.png
END:VEVENT
BEGIN:VEVENT
DTSTART;VALUE=DATE:20250829
DTEND;VALUE=DATE:20250831
DTSTAMP:20260419T164952
CREATED:20250805T151708Z
LAST-MODIFIED:20250825T155559Z
UID:10000435-1756425600-1756598399@championcenterwi.com
SUMMARY:Beast of the Northeast Varsity Volleyball Tournament
DESCRIPTION:The Community First Champion Center hosts Beast of the Northeast Volleyball Tournament!
URL:https://championcenterwi.com/event/beast-of-the-northeast-volleyball-tournament/
CATEGORIES:Volleyball
ATTACH;FMTTYPE=image/png:https://championcenterwi.com/wp-content/uploads/2025/08/Untitled-2-37.png
END:VEVENT
END:VCALENDAR